BEGIN:VCALENDAR
VERSION:2.0
PRODID:-//Squarespace Inc/Squarespace 6//v6//EN
BEGIN:VEVENT
UID:59ba0dc0914e6b4a5584ffe1@squarespace.com
DTSTAMP:20170914T050528Z
DTSTART:20171006T203000Z
DTEND:20171006T223000Z
SUMMARY:Annual Church Fair
END:VEVENT
END:VCALENDAR
