BEGIN:VCALENDAR
VERSION:2.0
PRODID:-//Squarespace Inc/Squarespace 6//v6//EN
BEGIN:VEVENT
UID:5a31a6c20852292fed33757f@squarespace.com
DTSTAMP:20171213T221733Z
DTSTART:20171216T210000Z
DTEND:20171216T221500Z
SUMMARY:Family Christmas Service
END:VEVENT
END:VCALENDAR
