BEGIN:VCALENDAR
VERSION:2.0
PRODID:-//Squarespace Inc/Squarespace 6//v6//EN
BEGIN:VEVENT
UID:5a31a487ec212d5e01f695b1@squarespace.com
DTSTAMP:20171213T220822Z
DTSTART:20171223T210000Z
DTEND:20171223T221500Z
SUMMARY:Christmas Eve
END:VEVENT
END:VCALENDAR
