BEGIN:VCALENDAR
VERSION:2.0
PRODID:-//Squarespace Inc/Squarespace 6//v6//EN
BEGIN:VEVENT
UID:5a31a4e0e4966bbc8e3aad99@squarespace.com
DTSTAMP:20171213T221013Z
DTSTART:20171224T203000Z
DTEND:20171224T213000Z
SUMMARY:Christmas Day
END:VEVENT
END:VCALENDAR
