BEGIN:VCALENDAR
VERSION:2.0
PRODID:-//Squarespace Inc/Squarespace 6//v6//EN
BEGIN:VEVENT
UID:5a31a76fc83025917eca19c6@squarespace.com
DTSTAMP:20171213T222047Z
DTSTART:20180127T210000Z
DTEND:20180127T220000Z
SUMMARY:Worship Service @ Trinity
END:VEVENT
END:VCALENDAR
