BEGIN:VCALENDAR
VERSION:2.0
PRODID:-//Squarespace Inc/Squarespace 6//v6//EN
BEGIN:VEVENT
UID:5a31a70a0852292fed33870c@squarespace.com
DTSTAMP:20171213T221835Z
DTSTART:20180113T210000Z
DTEND:20180113T220000Z
SUMMARY:Worship Service @ Trinity
END:VEVENT
END:VCALENDAR
