BEGIN:VCALENDAR
VERSION:2.0
PRODID:-//Squarespace Inc/Squarespace 6//v6//EN
BEGIN:VEVENT
UID:5a31a5560d929762cf4c77ac@squarespace.com
DTSTAMP:20171213T221315Z
DTSTART:20171230T210000Z
DTEND:20171230T220000Z
SUMMARY:Worship Service @ Trinity
END:VEVENT
END:VCALENDAR
