BEGIN:VCALENDAR
VERSION:2.0
PRODID:-//Squarespace Inc/Squarespace 6//v6//EN
BEGIN:VEVENT
UID:58b63c08be65948b0753133e@squarespace.com
DTSTAMP:20170301T031527Z
DTSTART:20170302T063000Z
DTEND:20170302T083000Z
SUMMARY:Small Group - Lenten Study
GEO:-44.237586;171.278477
LOCATION:The Manse\, 21 Ewen Road\, Temuka\, Canterbury\, 7920\, New Zealan
 d
END:VEVENT
END:VCALENDAR
