BEGIN:VCALENDAR
VERSION:2.0
PRODID:-//Squarespace Inc/Squarespace 6//v6//EN
BEGIN:VEVENT
UID:58983a4386e6c0c6ce7d9ded@squarespace.com
DTSTAMP:20170212T203815Z
DTSTART:20170302T210000Z
DTEND:20170302T220000Z
SUMMARY:World Day of Prayer
END:VEVENT
END:VCALENDAR
