BEGIN:VCALENDAR
VERSION:2.0
PRODID:-//Squarespace Inc/Squarespace 6//v6//EN
BEGIN:VEVENT
UID:589839a8c534a5fc6eb9b661@squarespace.com
DTSTAMP:20170301T030826Z
DTSTART:20170304T210000Z
DTEND:20170305T000000Z
SUMMARY:Church Service @ Lindisfarne
END:VEVENT
END:VCALENDAR
