BEGIN:VCALENDAR
VERSION:2.0
PRODID:-//Squarespace Inc/Squarespace 6//v6//EN
BEGIN:VEVENT
UID:5a31a7460852292fed3395c1@squarespace.com
DTSTAMP:20171213T221911Z
DTSTART:20180120T210000Z
DTEND:20180120T220000Z
SUMMARY:Worship Service @ St Peters - Dyson Street
END:VEVENT
END:VCALENDAR
