BEGIN:VCALENDAR
VERSION:2.0
PRODID:-//Squarespace Inc/Squarespace 6//v6//EN
BEGIN:VEVENT
UID:5a31a609652deac1e8edf049@squarespace.com
DTSTAMP:20171213T221610Z
DTSTART:20180106T210000Z
DTEND:20180106T220000Z
SUMMARY:Worship Service @ St Peters - Dyson Street
END:VEVENT
END:VCALENDAR
