BEGIN:VCALENDAR
VERSION:2.0
PRODID:-//Squarespace Inc/Squarespace 6//v6//EN
BEGIN:VEVENT
UID:5be215e4b8a0453302da765b@squarespace.com
DTSTAMP:20181113T185354Z
DTSTART:20181124T210000Z
DTEND:20181124T221500Z
SUMMARY:Worship Service @ Trinity
END:VEVENT
END:VCALENDAR
