BEGIN:VCALENDAR
VERSION:2.0
PRODID:-//Squarespace Inc/Squarespace 6//v6//EN
BEGIN:VEVENT
UID:5c1962b9f950b7d951016b84@squarespace.com
DTSTAMP:20181218T211238Z
DTSTART:20190126T210000Z
DTEND:20190126T221500Z
SUMMARY:Worship Service @ Trinity
END:VEVENT
END:VCALENDAR
