BEGIN:VCALENDAR
VERSION:2.0
PRODID:-//Squarespace Inc/Squarespace 6//v6//EN
BEGIN:VEVENT
UID:5c1962f8aa4a99b7ff5fe20a@squarespace.com
DTSTAMP:20181218T211348Z
DTSTART:20190202T210000Z
DTEND:20190202T221500Z
SUMMARY:Worship Service @ Trinity
END:VEVENT
END:VCALENDAR
