BEGIN:VCALENDAR
VERSION:2.0
PRODID:-//Squarespace Inc/Squarespace 6//v6//EN
BEGIN:VEVENT
UID:5beb1d8288251b4244eef1dd@squarespace.com
DTSTAMP:20181113T185317Z
DTSTART:20181201T210000Z
DTEND:20181201T221500Z
SUMMARY:Worship Service @ Trinity
END:VEVENT
END:VCALENDAR
