BEGIN:VCALENDAR
VERSION:2.0
PRODID:-//Squarespace Inc/Squarespace 6//v6//EN
BEGIN:VEVENT
UID:5be215568a922dd662bc3d61@squarespace.com
DTSTAMP:20181113T185339Z
DTSTART:20181117T210000Z
DTEND:20181117T221500Z
SUMMARY:Worship Service @ Trinity
END:VEVENT
END:VCALENDAR
