BEGIN:VCALENDAR
VERSION:2.0
PRODID:-//Squarespace Inc/Squarespace 6//v6//EN
BEGIN:VEVENT
UID:5be2124c032be46f12d08d85@squarespace.com
DTSTAMP:20181106T222716Z
DTSTART:20181110T203000Z
DTEND:20181110T211500Z
SUMMARY:Worship Servce @ Trinity - Armistice Day
END:VEVENT
END:VCALENDAR
