BEGIN:VCALENDAR
VERSION:2.0
PRODID:-//Squarespace Inc/Squarespace 6//v6//EN
BEGIN:VEVENT
UID:5be211121ae6cf3a9b82e9c9@squarespace.com
DTSTAMP:20181106T221348Z
DTSTART:20181127T010000Z
DTEND:20181127T030000Z
SUMMARY:Trinity Tunes
END:VEVENT
END:VCALENDAR
