BEGIN:VCALENDAR
VERSION:2.0
PRODID:-//Squarespace Inc/Squarespace 6//v6//EN
BEGIN:VEVENT
UID:5be2161bb8a0453302da79e7@squarespace.com
DTSTAMP:20181106T223244Z
DTSTART:20181207T050000Z
DTEND:20181207T063000Z
SUMMARY:Carols on the Green
END:VEVENT
END:VCALENDAR
